BEGIN:VCALENDAR
PRODID:-//Power Pages//CalExport v1.0//EN
CALSCALE:GREGORIAN
VERSION:2.0
METHOD:PUBLISH
BEGIN:VEVENT
UID:
DTSTAMP:19990101T010000Z
DESCRIPTION;CHARSET=UTF-8:
SUMMARY;CHARSET=UTF-8:Daryl Lafferriere
DTSTART;VALUE=DATE:20200814
	DTEND;VALUE=DATE:20200816
END:VEVENT
END:VCALENDAR