BEGIN:VCALENDAR
PRODID:-//Power Pages//CalExport v1.0//EN
CALSCALE:GREGORIAN
VERSION:2.0
METHOD:PUBLISH
BEGIN:VEVENT
UID:
DTSTAMP:19990101T010000Z
DESCRIPTION;CHARSET=UTF-8:
SUMMARY;CHARSET=UTF-8:Vig-Dover Wedding
DTSTART;VALUE=DATE:20190628
	DTEND;VALUE=DATE:20190701
END:VEVENT
END:VCALENDAR