BEGIN:VCALENDAR
PRODID:-//Power Pages//CalExport v1.0//EN
CALSCALE:GREGORIAN
VERSION:2.0
METHOD:PUBLISH
BEGIN:VEVENT
UID:
DTSTAMP:19990101T010000Z
DESCRIPTION;CHARSET=UTF-8:
SUMMARY;CHARSET=UTF-8:Heritage of Bel-Air  HOLD
DTSTART:20200110T01:00:00+0000
DTEND:20200110T01:00:00+0000
END:VEVENT
END:VCALENDAR