BEGIN:VCALENDAR
PRODID:-//Power Pages//CalExport v1.0//EN
CALSCALE:GREGORIAN
VERSION:2.0
METHOD:PUBLISH
BEGIN:VEVENT
UID:
DTSTAMP:19990101T010000Z
DESCRIPTION;CHARSET=UTF-8:Pancake Dinner\n\nfor all Arc members and  family
SUMMARY;CHARSET=UTF-8:ARC Pancake Dinner
DTSTART:20200312T18:00:00+0000
DTEND:20200312T21:00:00+0000
END:VEVENT
END:VCALENDAR