BEGIN:VCALENDAR
PRODID:-//Power Pages//CalExport v1.0//EN
CALSCALE:GREGORIAN
VERSION:2.0
METHOD:PUBLISH
BEGIN:VEVENT
UID:
DTSTAMP:19990101T010000Z
DESCRIPTION;CHARSET=UTF-8:wedding reception\n\nwants bar from 4.00 PM to 10.00 PM
SUMMARY;CHARSET=UTF-8:Nicholas Mackey 
DTSTART:20210702T10:00:00+0000
DTEND:20210702T00:59:00+0000
END:VEVENT
END:VCALENDAR