BEGIN:VCALENDAR
PRODID:-//Power Pages//CalExport v1.0//EN
CALSCALE:GREGORIAN
VERSION:2.0
METHOD:PUBLISH
BEGIN:VEVENT
UID:
DTSTAMP:19990101T010000Z
DESCRIPTION;CHARSET=UTF-8:Graduation Party w Bar\n\nNA
SUMMARY;CHARSET=UTF-8:Gubbels Graduation
DTSTART:20200801T10:00:00+0000
DTEND:20200801T21:00:00+0000
END:VEVENT
END:VCALENDAR