BEGIN:VCALENDAR
PRODID:-//Power Pages//CalExport v1.0//EN
CALSCALE:GREGORIAN
VERSION:2.0
METHOD:PUBLISH
BEGIN:VEVENT
UID:
DTSTAMP:19990101T010000Z
DESCRIPTION;CHARSET=UTF-8:garage sale for Northstar\n\nwill start Wednesday with bringing things in at  2 \nThursday 3 to 7\nFriday 9 to 5 \nSaturday 9 to 12
SUMMARY;CHARSET=UTF-8:garage sale
DTSTART;VALUE=DATE:20200722
	DTEND;VALUE=DATE:20200726
END:VEVENT
END:VCALENDAR