BEGIN:VCALENDAR
PRODID:-//Power Pages//CalExport v1.0//EN
CALSCALE:GREGORIAN
VERSION:2.0
METHOD:PUBLISH
BEGIN:VEVENT
UID:
DTSTAMP:19990101T010000Z
DESCRIPTION;CHARSET=UTF-8:Wedding Reception\n\nLana Daniels Wedding Reception
SUMMARY;CHARSET=UTF-8:Lana Daniels Wedding reception
DTSTART;VALUE=DATE:20210716
	DTEND;VALUE=DATE:20210719
END:VEVENT
END:VCALENDAR