BEGIN:VCALENDAR
PRODID:-//Power Pages//CalExport v1.0//EN
CALSCALE:GREGORIAN
VERSION:2.0
METHOD:PUBLISH
BEGIN:VEVENT
UID:
DTSTAMP:19990101T010000Z
DESCRIPTION;CHARSET=UTF-8:party for Ivan's Brother\n\nwants Bar from 4-9:00 pm
SUMMARY;CHARSET=UTF-8:Van Dyke Anniversary Party
DTSTART:20210619T10:00:00+0000
DTEND:20210619T13:59:00+0000
END:VEVENT
END:VCALENDAR