BEGIN:VCALENDAR
PRODID:-//Power Pages//CalExport v1.0//EN
CALSCALE:GREGORIAN
VERSION:2.0
METHOD:PUBLISH
BEGIN:VEVENT
UID:
DTSTAMP:19990101T010000Z
DESCRIPTION;CHARSET=UTF-8:Boy Scout\n\nSunday afternoon event
SUMMARY;CHARSET=UTF-8:Eagle Court of Hounor 
DTSTART:20210725T12:00:00+0000
DTEND:20210725T17:00:00+0000
END:VEVENT
END:VCALENDAR