BEGIN:VCALENDAR
PRODID:-//Power Pages//CalExport v1.0//EN
CALSCALE:GREGORIAN
VERSION:2.0
METHOD:PUBLISH
BEGIN:VEVENT
UID:
DTSTAMP:19990101T010000Z
DESCRIPTION;CHARSET=UTF-8:garage sale set-up on Wednesday-6-23 at 5\nlast day of sale is Saturday at 1\n\nBarb and Darla 
SUMMARY;CHARSET=UTF-8:Northstar garage sale
DTSTART;VALUE=DATE:20210623
	DTEND;VALUE=DATE:20210627
END:VEVENT
END:VCALENDAR