BEGIN:VCALENDAR
PRODID:-//Power Pages//CalExport v1.0//EN
CALSCALE:GREGORIAN
VERSION:2.0
METHOD:PUBLISH
BEGIN:VEVENT
UID:
DTSTAMP:19990101T010000Z
DESCRIPTION;CHARSET=UTF-8:Class of 1996 social gathering\n\n1996 happy hour event
SUMMARY;CHARSET=UTF-8:class of 1996 Social
DTSTART:20210625T20:30:00+0000
DTEND:20210625T23:00:00+0000
END:VEVENT
END:VCALENDAR