BEGIN:VCALENDAR
PRODID:-//Power Pages//CalExport v1.0//EN
CALSCALE:GREGORIAN
VERSION:2.0
METHOD:PUBLISH
BEGIN:VEVENT
UID:
DTSTAMP:19990101T010000Z
DESCRIPTION;CHARSET=UTF-8:wedding
SUMMARY;CHARSET=UTF-8:Holly Prohaska
DTSTART;VALUE=DATE:20210924
	DTEND;VALUE=DATE:20210926
END:VEVENT
END:VCALENDAR