BEGIN:VCALENDAR
PRODID:-//Power Pages//CalExport v1.0//EN
CALSCALE:GREGORIAN
VERSION:2.0
METHOD:PUBLISH
BEGIN:VEVENT
UID:
DTSTAMP:19990101T010000Z
DESCRIPTION;CHARSET=UTF-8:Rehearsal Dinner\n\nevent catered using kitchen
SUMMARY;CHARSET=UTF-8:Rehersal Dinner
DTSTART:20210730T17:00:00+0000
DTEND:20210730T22:00:00+0000
END:VEVENT
END:VCALENDAR