BEGIN:VCALENDAR
PRODID:-//Power Pages//CalExport v1.0//EN
CALSCALE:GREGORIAN
VERSION:2.0
METHOD:PUBLISH
BEGIN:VEVENT
UID:
DTSTAMP:19990101T010000Z
DESCRIPTION;CHARSET=UTF-8:Family Reunion\n\nNO BAR REQUIRED
SUMMARY;CHARSET=UTF-8:Funk Family Reunion 
DTSTART:20210703T10:00:00+0000
DTEND:20210703T18:00:00+0000
END:VEVENT
END:VCALENDAR