BEGIN:VCALENDAR
PRODID:-//Power Pages//CalExport v1.0//EN
CALSCALE:GREGORIAN
VERSION:2.0
METHOD:PUBLISH
BEGIN:VEVENT
UID:
DTSTAMP:19990101T010000Z
DESCRIPTION;CHARSET=UTF-8:40th wedding Anniversary Party for Parents\n\nWants Bar 
SUMMARY;CHARSET=UTF-8:Wemhoff Event
DTSTART:20210724T10:00:00+0000
DTEND:20210724T00:59:00+0000
END:VEVENT
END:VCALENDAR