BEGIN:VCALENDAR
PRODID:-//Power Pages//CalExport v1.0//EN
CALSCALE:GREGORIAN
VERSION:2.0
METHOD:PUBLISH
BEGIN:VEVENT
UID:
DTSTAMP:19990101T010000Z
DESCRIPTION;CHARSET=UTF-8:Birthday party\n\nwants Bar 
SUMMARY;CHARSET=UTF-8:Karen Drahota
DTSTART:20210815T13:00:00+0000
DTEND:20210815T18:00:00+0000
END:VEVENT
END:VCALENDAR