BEGIN:VCALENDAR
PRODID:-//Power Pages//CalExport v1.0//EN
CALSCALE:GREGORIAN
VERSION:2.0
METHOD:PUBLISH
BEGIN:VEVENT
UID:
DTSTAMP:19990101T010000Z
DESCRIPTION;CHARSET=UTF-8:Tom Wolff 60th Birthday Party\n\nWants Bar open 
SUMMARY;CHARSET=UTF-8:Birthday Party 
DTSTART:20210912T15:00:00+0000
DTEND:20210912T19:00:00+0000
END:VEVENT
END:VCALENDAR