BEGIN:VCALENDAR
PRODID:-//Power Pages//CalExport v1.0//EN
CALSCALE:GREGORIAN
VERSION:2.0
METHOD:PUBLISH
BEGIN:VEVENT
UID:
DTSTAMP:19990101T010000Z
DESCRIPTION;CHARSET=UTF-8:Doggett / Liking Reception
SUMMARY;CHARSET=UTF-8:Wedding Reception 
DTSTART;VALUE=DATE:20220916
	DTEND;VALUE=DATE:20220920
END:VEVENT
END:VCALENDAR