BEGIN:VCALENDAR
PRODID:-//Power Pages//CalExport v1.0//EN
CALSCALE:GREGORIAN
VERSION:2.0
METHOD:PUBLISH
BEGIN:VEVENT
UID:
DTSTAMP:19990101T010000Z
DESCRIPTION;CHARSET=UTF-8:\n\nFuneral Event 
SUMMARY;CHARSET=UTF-8:Paul Book 
DTSTART:20220704T12:00:00+0000
DTEND:20220704T15:00:00+0000
END:VEVENT
END:VCALENDAR