BEGIN:VCALENDAR
PRODID:-//Power Pages//CalExport v1.0//EN
CALSCALE:GREGORIAN
VERSION:2.0
METHOD:PUBLISH
BEGIN:VEVENT
UID:
DTSTAMP:19990101T010000Z
DESCRIPTION;CHARSET=UTF-8:\n\nWedding Reception with Bar 
SUMMARY;CHARSET=UTF-8: Wozny /  Wuredman  Wedding Reception
DTSTART;VALUE=DATE:20240608
	DTEND;VALUE=DATE:20240610
END:VEVENT
END:VCALENDAR