BEGIN:VCALENDAR
PRODID:-//Power Pages//CalExport v1.0//EN
CALSCALE:GREGORIAN
VERSION:2.0
METHOD:PUBLISH
BEGIN:VEVENT
UID:
DTSTAMP:19990101T010000Z
DESCRIPTION;CHARSET=UTF-8:
SUMMARY;CHARSET=UTF-8:Northeast Neb. Motorsports  Hall of Fame
DTSTART:20241012T17:00:00+0000
DTEND:20241012T00:00:00+0000
END:VEVENT
END:VCALENDAR