BEGIN:VCALENDAR
PRODID:-//Power Pages//CalExport v1.0//EN
CALSCALE:GREGORIAN
VERSION:2.0
METHOD:PUBLISH
BEGIN:VEVENT
UID:
DTSTAMP:19990101T010000Z
DESCRIPTION;CHARSET=UTF-8:birthday party
SUMMARY;CHARSET=UTF-8:birthday party
DTSTART:20240421T10:00:00+0000
DTEND:20240421T20:00:00+0000
END:VEVENT
END:VCALENDAR