BEGIN:VCALENDAR
PRODID:-//Power Pages//CalExport v1.0//EN
CALSCALE:GREGORIAN
VERSION:2.0
METHOD:PUBLISH
BEGIN:VEVENT
UID:
DTSTAMP:19990101T010000Z
DESCRIPTION;CHARSET=UTF-8:3 day garage sale
SUMMARY;CHARSET=UTF-8:Northstar garage sale
DTSTART;VALUE=DATE:20240619
	DTEND;VALUE=DATE:20240623
END:VEVENT
END:VCALENDAR