BEGIN:VCALENDAR
PRODID:-//Power Pages//CalExport v1.0//EN
CALSCALE:GREGORIAN
VERSION:2.0
METHOD:PUBLISH
BEGIN:VEVENT
UID:
DTSTAMP:19990101T010000Z
DESCRIPTION;CHARSET=UTF-8:\n\nBehavioral Health Specialists, inc
SUMMARY;CHARSET=UTF-8:Christmas Party-Behavioral Health 
DTSTART:20241206T10:00:00+0000
DTEND:20241206T00:30:00+0000
END:VEVENT
END:VCALENDAR